BEGIN:VCALENDAR
VERSION:2.0
PRODID:-//wp-events-plugin.com//7.2.3.1//EN
TZID:America/New_York
X-WR-TIMEZONE:America/New_York
BEGIN:VEVENT
UID:86@indyrotary.com
DTSTART;TZID=America/New_York:20260811T190000
DTEND;TZID=America/New_York:20260811T230000
DTSTAMP:20260420T160252Z
URL:https://indyrotary.com/events/indiana-fever-game/
SUMMARY:Indiana Fever Game
DESCRIPTION:Join fellow Rotarians for a fun night of basketball as the Indi
 ana Fever take on the New York Liberty!\n\nGame Details:\n\n 	Date: Tuesd
 ay\, August 11\n 	Time: 7:30 pm\n 	Location: Section 208 (balcony\, cent
 er)\n\nTicket Information:\n\n 	Price: $59.50 per ticket\n 	Rotary seats 
 will be grouped together for this event.\n\nIf you would like to attend\, 
 please complete the ticket form. You will receive an invoice for your t
 ickets in June\, as payment to the Fever is due by June 26.
ATTACH;FMTTYPE=image/jpeg:https://indyrotary.com/wp-content/uploads/2026/0
 4/Fever-game-2025.jpg
CATEGORIES:Social
LOCATION:Gainbridge Fieldhouse\, 125 S. Pennsylvania Street\, Indianapolis\
 , IN\, 46204\, United States
X-APPLE-STRUCTURED-LOCATION;VALUE=URI;X-ADDRESS=125 S. Pennsylvania Street\
 , Indianapolis\, IN\, 46204\, United States;X-APPLE-RADIUS=100;X-TITLE=Gai
 nbridge Fieldhouse:geo:0,0
END:VEVENT
BEGIN:VTIMEZONE
TZID:America/New_York
X-LIC-LOCATION:America/New_York
BEGIN:DAYLIGHT
DTSTART:20260308T030000
TZOFFSETFROM:-0500
TZOFFSETTO:-0400
TZNAME:EDT
END:DAYLIGHT
END:VTIMEZONE
END:VCALENDAR