BEGIN:VCALENDAR
VERSION:2.0
PRODID:-//wp-events-plugin.com//7.2.3.1//EN
TZID:America/New_York
X-WR-TIMEZONE:America/New_York
BEGIN:VEVENT
UID:89@indyrotary.com
DTSTART;TZID=America/New_York:20260623T173000
DTEND;TZID=America/New_York:20260623T203000
DTSTAMP:20260420T163955Z
URL:https://indyrotary.com/events/celebration-event-fundraiser/
SUMMARY:Celebration Event & Fundraiser
DESCRIPTION:It’s time to celebrate! Every year the Rotary Club of Indiana
 polis reflects on our impact over the prior year with a celebration!\n\nWh
 at to expect:\n\n 	Camaraderie\n 	Fun\n 	Food\n 	Silent auction\n 	Reflect
 ions on our community impact\, community beautification\, world community 
 service over the last year\n 	Installation and celebration of our new pres
 ident and board\n 	Celebration of President Charlie!\n\nEvent Info:\nJune 
 23\, 2026\nThe Columbia Club\n5:30 pm – cocktail hour\n6:30 pm – dinne
 r &amp\; program\n\nCost: Early Bird $65/per person\, $75/per person star
 ting June 1 – register at rotary-club-of-indianapolis.square.site/\n\n*
 Please note: all contributions to this event (ticket price\, silent auctio
 n\, and sponsorships) go to benefit the club. The club is not a 501(c)3 an
 d thus gifts made are not tax deductible.\n\nSponsorship Opportunities\n\n
 We hope you or your business will consider sponsoring the dinner. Multiple
  sponsorships are available if you’re interested in supporting your club
  in this way.\n\nThis fundraiser helps to support our club’s bottom line
  so we can provide better experiences for Rotarians as we learn about and 
 support our community. Thank you for your consideration.\n\nContact the of
 fice at info@indyrotary.org if you’re interested in this opportunity.
ATTACH;FMTTYPE=image/jpeg:https://indyrotary.com/wp-content/uploads/2026/0
 4/Celebration-Event-2025.jpg
CATEGORIES:Social
LOCATION:Columbia Club\, 121 Monument Circle\, Indianapolis\, IN\, 46204\, 
 United States
X-APPLE-STRUCTURED-LOCATION;VALUE=URI;X-ADDRESS=121 Monument Circle\, India
 napolis\, IN\, 46204\, United States;X-APPLE-RADIUS=100;X-TITLE=Columbia C
 lub:geo:0,0
END:VEVENT
BEGIN:VTIMEZONE
TZID:America/New_York
X-LIC-LOCATION:America/New_York
BEGIN:DAYLIGHT
DTSTART:20260308T030000
TZOFFSETFROM:-0500
TZOFFSETTO:-0400
TZNAME:EDT
END:DAYLIGHT
END:VTIMEZONE
END:VCALENDAR