BEGIN:VCALENDAR
VERSION:2.0
PRODID:-//wp-events-plugin.com//7.2.3.1//EN
TZID:America/New_York
X-WR-TIMEZONE:America/New_York
BEGIN:VEVENT
UID:88@indyrotary.com
DTSTART;TZID=America/New_York:20260512T090000
DTEND;TZID=America/New_York:20260512T110000
DTSTAMP:20260420T162208Z
URL:https://indyrotary.com/events/4-way-test-at-harshman-middle-school-vol
 unteer-opportunity/
SUMMARY:4-Way Test at Harshman Middle School - Volunteer Opportunity
DESCRIPTION:The 4-Way Test Program is a fantastic opportunity for Rotarians
  to engage with students\, offering valuable tools\, techniques\, and stra
 tegies for making thoughtful\, ethical decisions that will serve them thro
 ughout their lives. By participating\, you’ll help instill essential ski
 lls in young people while providing them with insights that will shape the
 ir future.\n\nThis initiative is not only impactful for the students\, but
  also incredibly rewarding for the volunteers. It’s a chance to witness 
 firsthand the growth and development of the next generation and be part of
  their educational journey. We promise the experience will be eye-opening\
 , fun\, and a fulfilling way to give back to the community!\n\nFor our new
 er members\, this is an excellent way to get involved with Rotary and expe
 rience our mission in action. We welcome everyone to be part of this meani
 ngful program!\n\nInterested in volunteering? Please email Mike Crowley 
 or call him directly at 317-627-9030.\n\nDon’t miss out on this incredib
 le opportunity to make a difference in students' lives and be part of Rota
 ry’s impactful work!
ATTACH;FMTTYPE=image/jpeg:https://indyrotary.com/wp-content/uploads/2025/1
 0/4-Way-Test-Oct-2025.jpg
CATEGORIES:Committee,Volunteer Opportunities
LOCATION:Harshman Middle School\, 1500 East 10th Street\, Indianapolis\, IN
 \, 46201\, United States
X-APPLE-STRUCTURED-LOCATION;VALUE=URI;X-ADDRESS=1500 East 10th Street\, Ind
 ianapolis\, IN\, 46201\, United States;X-APPLE-RADIUS=100;X-TITLE=Harshman
  Middle School:geo:0,0
END:VEVENT
BEGIN:VTIMEZONE
TZID:America/New_York
X-LIC-LOCATION:America/New_York
BEGIN:DAYLIGHT
DTSTART:20260308T030000
TZOFFSETFROM:-0500
TZOFFSETTO:-0400
TZNAME:EDT
END:DAYLIGHT
END:VTIMEZONE
END:VCALENDAR